BEGIN:VCALENDAR
VERSION:2.0
PRODID:-//wp-events-plugin.com//5.99912//EN
TZID:Europe/Paris
X-WR-TIMEZONE:Europe/Paris
BEGIN:VEVENT
UID:0-505@saint-armel56.fr
DTSTART;TZID=Europe/Paris:20260513T000000
DTEND;TZID=Europe/Paris:20260517T000000
DTSTAMP:20260422T133854Z
URL:https://www.saint-armel56.fr/evenements/plage-de-danse/
SUMMARY:Plage de danse
DESCRIPTION:Fleurir les abîmes est né de la furieuse envie de planter un 
 arbre de douceur au coeur du monde.\nJeudi 14 mai à 12h et 15h\nLà où 
 tout est voué à devenir sable\, même l’eau\, même le temps… se tro
 uvent une&nbsp\;femme et un arbre. Il est sa colonne vertébrale\, son con
 fident\, celui qui l’inspire et&nbsp\;l’apaise. Elle est son rire\, se
 s tremblements\, celle qui joue et attend.&nbsp\;Poèmes et espoirs qui na
 issent de la vie-même.Ensemble\, Fleurir les abîmes.\nFleurir les abîme
 s a reçu le Prix du public du meilleur spectacle de rue lors du&nbsp\;fes
 tival TAC de Valladolid 2024.\nAvec la participation des élèves de l’
 association Harmonie danse de Grand-Champ\, l’association Dao danse de 
 Saint-Nolff\, l’association Maison de l’animation et des loisirs d’A
 uray et de l’école de danse Aurélie Menuet\nLes Impromptus\, ce sont 
 de petits instants chorégraphiques proposés par des enseignants de Conse
 rvatoires et d’écoles de danse et interprétés par les élèves de ces
  établissements. Venez les découvrir et les applaudir de-ci de-là\, sur
  les places des communes de la presqu’île.\nProgramme
ATTACH;FMTTYPE=image/jpeg:https://www.saint-armel56.fr/app/uploads/2026/04
 /Saint-Armel-plage-de-danse.png
CATEGORIES:Culture
LOCATION:
X-APPLE-STRUCTURED-LOCATION;VALUE=URI;X-ADDRESS=France;X-APPLE-RADIUS=100;X
 -TITLE=:geo:0,0
END:VEVENT
BEGIN:VTIMEZONE
TZID:Europe/Paris
X-LIC-LOCATION:Europe/Paris
BEGIN:DAYLIGHT
DTSTART:20260329T030000
TZOFFSETFROM:+0100
TZOFFSETTO:+0200
TZNAME:CEST
END:DAYLIGHT
END:VTIMEZONE
END:VCALENDAR